BEGIN:VCALENDAR
VERSION:2.0
PRODID:-//103.18.109.165//NONSGML kigkonsult.se iCalcreator 2.26.9//
CALSCALE:GREGORIAN
METHOD:PUBLISH
X-WR-CALNAME:
X-WR-CALDESC:
X-FROM-URL:https://www.sunclub.org.au
X-WR-TIMEZONE:Australia/Brisbane
BEGIN:VTIMEZONE
TZID:Australia/Brisbane
X-LIC-LOCATION:Australia/Brisbane
BEGIN:STANDARD
DTSTART:19920301T030000
TZOFFSETFROM:+1100
TZOFFSETTO:+1000
TZNAME:AEST
END:STANDARD
END:VTIMEZONE
BEGIN:VEVENT
UID:ai1ec-203@www.sunclub.org.au
DTSTAMP:20200225T194153Z
CATEGORIES:
CONTACT:
DESCRIPTION:Pacific Sun Friends nudist Resort.\, Donnybrook  north of Brisb
 ane City open day
DTSTART;VALUE=DATE:20190608
DTEND;VALUE=DATE:20190609
SEQUENCE:0
SUMMARY:Pacfic Sun Friends Open day (FAN)
URL:https://www.sunclub.org.au/event/pacfic-sun-friends-open-day-fan/
X-COST-TYPE:free
X-ALT-DESC;FMTTYPE=text/html:<!DOCTYPE HTML PUBLIC '-//W3C//DTD HTML 3.2//E
 N'>\\n<HTML>\\n<HEAD>\\n<TITLE></TITLE>\\n</HEAD>\\n<BODY><p>Pacific Sun F
 riends nudist Resort.\, Donnybrook  north of Brisbane City open day</p>\n<
 /BODY></HTML>
END:VEVENT
END:VCALENDAR
