BEGIN:VCALENDAR
VERSION:2.0
PRODID:-//103.18.109.165//NONSGML kigkonsult.se iCalcreator 2.26.9//
CALSCALE:GREGORIAN
METHOD:PUBLISH
X-WR-CALNAME:
X-WR-CALDESC:
X-FROM-URL:https://www.sunclub.org.au
X-WR-TIMEZONE:Australia/Brisbane
BEGIN:VTIMEZONE
TZID:Australia/Brisbane
X-LIC-LOCATION:Australia/Brisbane
BEGIN:STANDARD
DTSTART:19920301T030000
TZOFFSETFROM:+1100
TZOFFSETTO:+1000
TZNAME:AEST
END:STANDARD
END:VTIMEZONE
BEGIN:VEVENT
UID:ai1ec-202@www.sunclub.org.au
DTSTAMP:20200302T074429Z
CATEGORIES:
CONTACT:
DESCRIPTION:details to follow
DTSTART;VALUE=DATE:20191123
DTEND;VALUE=DATE:20191124
LOCATION:Pacfic Sun Friends
SEQUENCE:0
SUMMARY:QSN Body Colour afternoon
URL:https://www.sunclub.org.au/event/qsn-body-colour-afternoon/
X-COST-TYPE:free
X-ALT-DESC;FMTTYPE=text/html:<!DOCTYPE HTML PUBLIC '-//W3C//DTD HTML 3.2//E
 N'>\\n<HTML>\\n<HEAD>\\n<TITLE></TITLE>\\n</HEAD>\\n<BODY><p>details to fo
 llow</p>\n</BODY></HTML>
END:VEVENT
END:VCALENDAR
