BEGIN:VCALENDAR
VERSION:2.0
PRODID:-//103.18.109.165//NONSGML kigkonsult.se iCalcreator 2.26.9//
CALSCALE:GREGORIAN
METHOD:PUBLISH
X-WR-CALNAME:
X-WR-CALDESC:
X-FROM-URL:https://www.sunclub.org.au
X-WR-TIMEZONE:Australia/Brisbane
BEGIN:VTIMEZONE
TZID:Australia/Brisbane
X-LIC-LOCATION:Australia/Brisbane
BEGIN:STANDARD
DTSTART:19920301T030000
TZOFFSETFROM:+1100
TZOFFSETTO:+1000
TZNAME:AEST
END:STANDARD
END:VTIMEZONE
BEGIN:VEVENT
UID:ai1ec-201@www.sunclub.org.au
DTSTAMP:20200302T073557Z
CATEGORIES:
CONTACT:
DESCRIPTION:2 hours nude 10pin bowling then spend the remaining day at a lo
 cal Nudist venue for BBQ lunch
DTSTART;TZID=Australia/Brisbane:20191020T083000
DTEND;TZID=Australia/Brisbane:20191020T103000
SEQUENCE:0
SUMMARY:Nude 10 Pin Bowling
URL:https://www.sunclub.org.au/event/nude-10-pin-bowling-2/
X-COST-TYPE:free
X-ALT-DESC;FMTTYPE=text/html:<!DOCTYPE HTML PUBLIC '-//W3C//DTD HTML 3.2//E
 N'>\\n<HTML>\\n<HEAD>\\n<TITLE></TITLE>\\n</HEAD>\\n<BODY><p>2 hours nude 
 10pin bowling then spend the remaining day at a local Nudist venue for BBQ
  lunch</p>\n</BODY></HTML>
END:VEVENT
END:VCALENDAR
