BEGIN:VCALENDAR
VERSION:2.0
PRODID:-//103.18.109.165//NONSGML kigkonsult.se iCalcreator 2.26.9//
CALSCALE:GREGORIAN
METHOD:PUBLISH
X-WR-CALNAME:
X-WR-CALDESC:
X-FROM-URL:https://www.sunclub.org.au
X-WR-TIMEZONE:Australia/Brisbane
BEGIN:VTIMEZONE
TZID:Australia/Brisbane
X-LIC-LOCATION:Australia/Brisbane
BEGIN:STANDARD
DTSTART:19920301T030000
TZOFFSETFROM:+1100
TZOFFSETTO:+1000
TZNAME:AEST
END:STANDARD
END:VTIMEZONE
BEGIN:VEVENT
UID:ai1ec-144@www.sunclub.org.au
DTSTAMP:20200302T075703Z
CATEGORIES:
CONTACT:
DESCRIPTION:South East Community Sun Club. (S.E.C.S.C.) Monthly Swim 1st Su
 nday each month.\n12pm till 5pm Central Ipswich (email the secretary for t
 he venue address).\n$20 each non members\, cash only\, under 18 free.\nPle
 ase bring a towel\, a non breakable mug\, also consider a non breakable pl
 ate for your food.\nThe Club will provide afternoon as the usual Tea\, Cof
 fee\, and Milo. If anyone wants to bring other stuff it would be appreciat
 ed….. please inform the secretary if we will need to use the BBQ or a hotp
 late or oven.
DTSTART;TZID=Australia/Brisbane:20190303T120000
DTEND;TZID=Australia/Brisbane:20190303T170000
SEQUENCE:0
SUMMARY:March Studio Vogue
URL:https://www.sunclub.org.au/event/march-photo-mania/
X-COST-TYPE:free
X-ALT-DESC;FMTTYPE=text/html:<!DOCTYPE HTML PUBLIC '-//W3C//DTD HTML 3.2//E
 N'>\\n<HTML>\\n<HEAD>\\n<TITLE></TITLE>\\n</HEAD>\\n<BODY><p>South East Co
 mmunity Sun Club. (S.E.C.S.C.) Monthly Swim 1st Sunday each month.<br />\n
 12pm till 5pm Central Ipswich (email the secretary for the venue address).
 <br />\n$20 each non members\, cash only\, under 18 free.<br />\nPlease br
 ing a towel\, a non breakable mug\, also consider a non breakable plate fo
 r your food.<br />\nThe Club will provide afternoon as the usual Tea\, Cof
 fee\, and Milo. If anyone wants to bring other stuff it would be appreciat
 ed….. please inform the secretary if we will need to use the BBQ or a hotp
 late or oven.</p>\n</BODY></HTML>
END:VEVENT
END:VCALENDAR
