BEGIN:VCALENDAR
VERSION:2.0
PRODID:-//103.18.109.165//NONSGML kigkonsult.se iCalcreator 2.26.9//
CALSCALE:GREGORIAN
METHOD:PUBLISH
X-WR-CALNAME:
X-WR-CALDESC:
X-FROM-URL:https://www.sunclub.org.au
X-WR-TIMEZONE:Australia/Brisbane
BEGIN:VTIMEZONE
TZID:Australia/Brisbane
X-LIC-LOCATION:Australia/Brisbane
BEGIN:STANDARD
DTSTART:19920301T030000
TZOFFSETFROM:+1100
TZOFFSETTO:+1000
TZNAME:AEST
END:STANDARD
END:VTIMEZONE
BEGIN:VEVENT
UID:ai1ec-116@www.sunclub.org.au
DTSTAMP:20200302T075433Z
CATEGORIES;LANGUAGE=en-AU:Balkaz\,SunClub
CONTACT:
DESCRIPTION:SunClub Social evening at Balkaz.\nBring your own food for barb
 ecue meal.\nAccommodation can be organised with Karen at the venue.\n 
DTSTART;TZID=Australia/Brisbane:20181116T170000
DTEND;TZID=Australia/Brisbane:20181116T234500
LOCATION:Balkaz
SEQUENCE:0
SUMMARY:SunClub Social evening
URL:https://www.sunclub.org.au/event/sunclub-social-evening_20181116/
X-COST-TYPE:free
X-ALT-DESC;FMTTYPE=text/html:<!DOCTYPE HTML PUBLIC '-//W3C//DTD HTML 3.2//E
 N'>\\n<HTML>\\n<HEAD>\\n<TITLE></TITLE>\\n</HEAD>\\n<BODY><p style='text-a
 lign: center\;'><strong>SunClub Social evening at Balkaz.</strong></p>\n<p
 >Bring your own food for barbecue meal.</p>\n<p>Accommodation can be organ
 ised with K<span class='_5yl5'>aren at the venue.</span></p>\n<p> </p>\n</
 BODY></HTML>
END:VEVENT
END:VCALENDAR
